BEGIN:VCALENDAR
VERSION:2.0
PRODID:-//EDHP-SIG - ECPv6.15.20//NONSGML v1.0//EN
CALSCALE:GREGORIAN
METHOD:PUBLISH
X-WR-CALNAME:EDHP-SIG
X-ORIGINAL-URL:https://edhp-sig.org
X-WR-CALDESC:Events for EDHP-SIG
REFRESH-INTERVAL;VALUE=DURATION:PT1H
X-Robots-Tag:noindex
X-PUBLISHED-TTL:PT1H
BEGIN:VTIMEZONE
TZID:America/New_York
BEGIN:DAYLIGHT
TZOFFSETFROM:-0500
TZOFFSETTO:-0400
TZNAME:EDT
DTSTART:20190310T070000
END:DAYLIGHT
BEGIN:STANDARD
TZOFFSETFROM:-0400
TZOFFSETTO:-0500
TZNAME:EST
DTSTART:20191103T060000
END:STANDARD
BEGIN:DAYLIGHT
TZOFFSETFROM:-0500
TZOFFSETTO:-0400
TZNAME:EDT
DTSTART:20200308T070000
END:DAYLIGHT
BEGIN:STANDARD
TZOFFSETFROM:-0400
TZOFFSETTO:-0500
TZNAME:EST
DTSTART:20201101T060000
END:STANDARD
BEGIN:DAYLIGHT
TZOFFSETFROM:-0500
TZOFFSETTO:-0400
TZNAME:EDT
DTSTART:20210314T070000
END:DAYLIGHT
BEGIN:STANDARD
TZOFFSETFROM:-0400
TZOFFSETTO:-0500
TZNAME:EST
DTSTART:20211107T060000
END:STANDARD
BEGIN:DAYLIGHT
TZOFFSETFROM:-0500
TZOFFSETTO:-0400
TZNAME:EDT
DTSTART:20220313T070000
END:DAYLIGHT
BEGIN:STANDARD
TZOFFSETFROM:-0400
TZOFFSETTO:-0500
TZNAME:EST
DTSTART:20221106T060000
END:STANDARD
BEGIN:DAYLIGHT
TZOFFSETFROM:-0500
TZOFFSETTO:-0400
TZNAME:EDT
DTSTART:20230312T070000
END:DAYLIGHT
BEGIN:STANDARD
TZOFFSETFROM:-0400
TZOFFSETTO:-0500
TZNAME:EST
DTSTART:20231105T060000
END:STANDARD
BEGIN:DAYLIGHT
TZOFFSETFROM:-0500
TZOFFSETTO:-0400
TZNAME:EDT
DTSTART:20240310T070000
END:DAYLIGHT
BEGIN:STANDARD
TZOFFSETFROM:-0400
TZOFFSETTO:-0500
TZNAME:EST
DTSTART:20241103T060000
END:STANDARD
BEGIN:DAYLIGHT
TZOFFSETFROM:-0500
TZOFFSETTO:-0400
TZNAME:EDT
DTSTART:20250309T070000
END:DAYLIGHT
BEGIN:STANDARD
TZOFFSETFROM:-0400
TZOFFSETTO:-0500
TZNAME:EST
DTSTART:20251102T060000
END:STANDARD
END:VTIMEZONE
BEGIN:VEVENT
DTSTART;TZID=America/New_York:20240418T140000
DTEND;TZID=America/New_York:20240418T150000
DTSTAMP:20260421T074920
CREATED:20240401T205711Z
LAST-MODIFIED:20240401T212158Z
UID:4930-1713448800-1713452400@edhp-sig.org
SUMMARY:What Should Medical Educators Know About Teaching\, Learning\, and Instructional Design?
DESCRIPTION:The EDHP SIG of AECT invites you to a FREE professional development webinar with Dr. Atsusi Hirumi. In this webinar\, we will take a critical look at what medical educators are expected to know about teaching\, learning\, and instructional design by examining surveys\, interviews\, and degree programs that have recently been established in medical and health professions education.\n\nWhen: Thursday\, April 18\, 2024 | 2:00 – 3:00pm (EDT)\n\nRegister at: http://bit.ly/edhp-pd2
URL:https://edhp-sig.org/event/what-should-medical-educators-know-about-teaching-learning-and-instructional-design/
LOCATION:Virtual Convention\, United States
CATEGORIES:AECT
END:VEVENT
BEGIN:VEVENT
DTSTART;VALUE=DATE:20201130
DTEND;VALUE=DATE:20201205
DTSTAMP:20260421T074920
CREATED:20200709T160022Z
LAST-MODIFIED:20200721T173124Z
UID:342-1606694400-1607126399@edhp-sig.org
SUMMARY:I/ITSEC 2020
DESCRIPTION:The Interservice/Industry Training\, Simulation and Education Conference (I/ITSEC) is the world’s largest modeling\, simulation and training event an is held each year in Orlando\, Florida\, USA. For more information\, please go to https://www.iitsec.org/.
URL:https://edhp-sig.org/event/i-itsec-2020/
LOCATION:Orange County Convention Center\, 9899 International Drive\, Orlando\, FL\, 32819\, United States
CATEGORIES:I/ITSEC
END:VEVENT
BEGIN:VEVENT
DTSTART;VALUE=DATE:20201102
DTEND;VALUE=DATE:20201108
DTSTAMP:20260421T074920
CREATED:20200709T155250Z
LAST-MODIFIED:20200721T172914Z
UID:338-1604275200-1604793599@edhp-sig.org
SUMMARY:AECT 2020 Convention (Virtual)
DESCRIPTION:The Association of Educational Communications and Technology (AECT.org) announces that they will host the 2020 convention online. The virtual convention will be held on Nov. 2 to Nov. 7\, 2020\, with pre-conference workshops being held online Oct. 29-30. To register for the conference\, please go to aect.org.
URL:https://edhp-sig.org/event/aect-2020-convention-virtual/
LOCATION:Virtual Convention\, United States
CATEGORIES:AECT
END:VEVENT
BEGIN:VEVENT
DTSTART;VALUE=DATE:20200722
DTEND;VALUE=DATE:20200724
DTSTAMP:20260421T074920
CREATED:20200406T143713Z
LAST-MODIFIED:20200721T172019Z
UID:29-1595376000-1595548799@edhp-sig.org
SUMMARY:2020 AECT Summer Research Symposium
DESCRIPTION:The AECT Summer Research Symposium is a research-supported papers for a symposium on learning. This year our symposium will be held virtually on July 22-23\, 2020. The resulting book will be published by Springer. This year\, all AECT journals\, including ETR&D and TechTrends will have editors or representatives participate\, recruit future reviewers and solicit articles for possible publication. Learn More
URL:https://edhp-sig.org/event/2020-aect-summer-research-symposium/
LOCATION:Riverfront Hyatt Regency\, 225 E Coastline Drive\, Jacksonville\, FL\, 32202\, United States
CATEGORIES:AECT
END:VEVENT
END:VCALENDAR